BEGIN:VCALENDAR
VERSION:2.0
PRODID:-//Plone.org//NONSGML plone.app.event//EN
X-WR-TIMEZONE:America/Sao_Paulo
BEGIN:VEVENT
SUMMARY:Evento de apresentação das ações relacionadas à Capacitação
  em Empreendedorismo e Gestão para Infraestruturas de Pesquisa. em [ Audi
 torio A104 do Cad 2]
DTSTART;TZID=America/Sao_Paulo;VALUE=DATE-TIME:20230614T140000
DTEND;TZID=America/Sao_Paulo;VALUE=DATE-TIME:20230614T160000
DTSTAMP;VALUE=DATE-TIME:20260421T121930Z
UID:1d15fafbd89e44ee9a41b7195eeda332@150.164.76.86:8080
CREATED;VALUE=DATE-TIME:20230530T111501Z
DESCRIPTION:<p>A Pró-Reitoria de Pesquisa da UFMG realizará um evento no
  próximo dia 14/06/2023 às 14:00 horas. Evento: Apresentação das açõ
 es relacionadas a Capacitação em Empreendedorismo e Gestão para Infraes
 truturas de Pesquisa Público: aproximadamente 120 pessoas Equipamentos / 
 infraestrutura necessários: internet\, projetor\, notebook\, microfone\, 
 transmissão ao vivo pelo Youtube.</p>
LAST-MODIFIED;VALUE=DATE-TIME:20230612T204109Z
URL:http://150.164.76.86:8080/cac/agenda/14872949987362260032
END:VEVENT
BEGIN:VTIMEZONE
TZID:America/Sao_Paulo
X-LIC-LOCATION:America/Sao_Paulo
BEGIN:STANDARD
DTSTART;VALUE=DATE-TIME:20230225T230000
TZNAME:BRT
TZOFFSETFROM:-0200
TZOFFSETTO:-0300
END:STANDARD
END:VTIMEZONE
END:VCALENDAR
