BEGIN:VCALENDAR
VERSION:2.0
PRODID:-//Plone.org//NONSGML plone.app.event//EN
X-WR-TIMEZONE:America/Sao_Paulo
BEGIN:VEVENT
SUMMARY:ASSEMBLEIA DO SINDIFES em [ Auditório B107 do CAD3]
DTSTART;TZID=America/Sao_Paulo;VALUE=DATE-TIME:20240516T080000
DTEND;TZID=America/Sao_Paulo;VALUE=DATE-TIME:20240516T170000
DTSTAMP;VALUE=DATE-TIME:20260420T032059Z
UID:5a24728f4c6d4c549c87b169a6d3b408@150.164.76.86:8080
CREATED;VALUE=DATE-TIME:20240503T141241Z
DESCRIPTION:<p>assembleia</p>
LAST-MODIFIED;VALUE=DATE-TIME:20240506T143317Z
URL:http://150.164.76.86:8080/cac/agenda/14855607304448419813
END:VEVENT
BEGIN:VTIMEZONE
TZID:America/Sao_Paulo
X-LIC-LOCATION:America/Sao_Paulo
BEGIN:STANDARD
DTSTART;VALUE=DATE-TIME:20240217T230000
TZNAME:BRT
TZOFFSETFROM:-0200
TZOFFSETTO:-0300
END:STANDARD
END:VTIMEZONE
END:VCALENDAR
