BEGIN:VCALENDAR
VERSION:2.0
PRODID:-//Plone.org//NONSGML plone.app.event//EN
X-WR-TIMEZONE:America/Sao_Paulo
BEGIN:VEVENT
SUMMARY:em  em [ Outros espacos Auditório B302 do CAD 3 Auditório B101/1
 02 do CAD 3 Auditório B301 do CAD 3 Auditório B106 do CAD3 Auditório B1
 07 do CAD3]
DTSTART;TZID=America/Sao_Paulo;VALUE=DATE-TIME:20221008T070000
DTEND;TZID=America/Sao_Paulo;VALUE=DATE-TIME:20221009T230000
DTSTAMP;VALUE=DATE-TIME:20260421T235106Z
UID:25256e21b94943cea31c4cc7ba8d1c25@150.164.76.86:8080
CREATED;VALUE=DATE-TIME:20220902T132249Z
DESCRIPTION:<p>Preparo do prédio no dia 08/10</p>
LAST-MODIFIED;VALUE=DATE-TIME:20230111T201115Z
URL:http://150.164.76.86:8080/cac/agenda/14846503238757526610
END:VEVENT
BEGIN:VTIMEZONE
TZID:America/Sao_Paulo
X-LIC-LOCATION:America/Sao_Paulo
BEGIN:STANDARD
DTSTART;VALUE=DATE-TIME:20220219T230000
TZNAME:BRT
TZOFFSETFROM:-0200
TZOFFSETTO:-0300
END:STANDARD
END:VTIMEZONE
END:VCALENDAR
