BEGIN:VCALENDAR
VERSION:2.0
PRODID:-//Plone.org//NONSGML plone.app.event//EN
X-WR-TIMEZONE:America/Sao_Paulo
BEGIN:VEVENT
SUMMARY:CAPACIDADE EXCEDIDA em [ Auditorio Nobre do CAD 1 Auditorio 1A do 
 CAD 1 Auditorio 2A do CAD 1]
DTSTART;TZID=America/Sao_Paulo;VALUE=DATE-TIME:20200913T000000
DTEND;TZID=America/Sao_Paulo;VALUE=DATE-TIME:20200913T230000
DTSTAMP;VALUE=DATE-TIME:20260424T183601Z
UID:405e6eee95e64da2a557d04a2cec8e01@150.164.76.86:8080
CREATED;VALUE=DATE-TIME:20200114T211642Z
DESCRIPTION:<p>A pedido da coordenadora da CAC Cássia Monteiro\, aprovado
  em reuniões dos dias 09 e 10/01/2020.<br />Atenciosamente<br />Coordenad
 oria de Assuntos Comunitários</p>
LAST-MODIFIED;VALUE=DATE-TIME:20200114T212158Z
URL:http://150.164.76.86:8080/cac/agenda/14835284317021282765
END:VEVENT
BEGIN:VTIMEZONE
TZID:America/Sao_Paulo
X-LIC-LOCATION:America/Sao_Paulo
BEGIN:STANDARD
DTSTART;VALUE=DATE-TIME:20200215T230000
TZNAME:BRT
TZOFFSETFROM:-0200
TZOFFSETTO:-0300
END:STANDARD
END:VTIMEZONE
END:VCALENDAR
