BEGIN:VCALENDAR
VERSION:2.0
PRODID:-//Plone.org//NONSGML plone.app.event//EN
X-WR-TIMEZONE:America/Sao_Paulo
BEGIN:VEVENT
SUMMARY:Futuro\, essa palavra | Monkeypox: o que sabemos? em [ Auditorio d
 a Reitoria]
DTSTART;TZID=America/Sao_Paulo;VALUE=DATE-TIME:20220929T100000
DTEND;TZID=America/Sao_Paulo;VALUE=DATE-TIME:20220929T120000
DTSTAMP;VALUE=DATE-TIME:20260422T024832Z
UID:c4df81ac70a147178cbe1bec84df7988@150.164.76.86:8080
CREATED;VALUE=DATE-TIME:20220921T143843Z
DESCRIPTION:<p>Futuro\, essa palavra Monkeypox: o que sabemos? Abertura: R
 eitora Sandra Regina Goulart Almeida - Profa. Erna Kroon (ICB/UFMG) - Prof
 . Flávio Fonseca (ICB/UFMG) - Prof. Unaí Tupinambás (Medicina/UFMG) Med
 iação: Profa. Cristina Alvim (Medicina/UFMG) 29/9\, 10h Auditório da re
 itoria * Envie suas dúvidas até 28/09 para serem respondidas no evento: 
 ufmg95anos@gabinete.ufmg.br Transmissão no canal da UFMG no Youtube &gt\;
 </p>\n<p> </p>\n<p>Evento do calendário comemorativo dos 95 anos UFMG</p
 >\n<p>Importante incluir banners 95 anos\, com apoio Fundep\, na entrada e
  na lateral do auditório\, por favor.</p>\n<p> </p>
LAST-MODIFIED;VALUE=DATE-TIME:20220922T195557Z
URL:http://150.164.76.86:8080/cac/agenda/1481888826579322911
END:VEVENT
BEGIN:VTIMEZONE
TZID:America/Sao_Paulo
X-LIC-LOCATION:America/Sao_Paulo
BEGIN:STANDARD
DTSTART;VALUE=DATE-TIME:20220219T230000
TZNAME:BRT
TZOFFSETFROM:-0200
TZOFFSETTO:-0300
END:STANDARD
END:VTIMEZONE
END:VCALENDAR
