BEGIN:VCALENDAR
VERSION:2.0
PRODID:-//Plone.org//NONSGML plone.app.event//EN
X-WR-TIMEZONE:America/Sao_Paulo
BEGIN:VEVENT
SUMMARY:Feriado - Proclamação da República em [ Auditorio da Reitoria S
 aguao da Reitoria Gramado da Reitoria Arena da praça de serviços Entorno
  da Praca de Servicos Auditorio Nobre do CAD 1 Auditorio 1A do CAD 1 Audit
 orio 2A do CAD 1 Auditorio A102 do Cad 2 Auditorio A104 do Cad 2 Auditóri
 o B101/102 do CAD 3 Auditório B301 do CAD 3 Auditório B302 do CAD 3 Audi
 tório B106 do CAD3 Auditório B107 do CAD3 Outros espacos]
DTSTART;TZID=America/Sao_Paulo;VALUE=DATE-TIME:20231115T060000
DTEND;TZID=America/Sao_Paulo;VALUE=DATE-TIME:20231115T230000
DTSTAMP;VALUE=DATE-TIME:20260420T143338Z
UID:a3a3427046c5417095fe9be6ad25b207@150.164.76.86:8080
CREATED;VALUE=DATE-TIME:20221110T142509Z
DESCRIPTION:<p>Feriado</p>
LAST-MODIFIED;VALUE=DATE-TIME:20230111T201122Z
URL:http://150.164.76.86:8080/cac/agenda/14811759041937446168
END:VEVENT
BEGIN:VTIMEZONE
TZID:America/Sao_Paulo
X-LIC-LOCATION:America/Sao_Paulo
BEGIN:DAYLIGHT
DTSTART;VALUE=DATE-TIME:20231015T010000
TZNAME:BRST
TZOFFSETFROM:-0300
TZOFFSETTO:-0200
END:DAYLIGHT
END:VTIMEZONE
END:VCALENDAR
