BEGIN:VCALENDAR
VERSION:2.0
PRODID:-//Plone.org//NONSGML plone.app.event//EN
X-WR-TIMEZONE:America/Sao_Paulo
BEGIN:VEVENT
SUMMARY:Lançamento Incubação Inova UFMG - Incubadora de Empresas em [ A
 uditorio A104 do Cad 2]
DTSTART;TZID=America/Sao_Paulo;VALUE=DATE-TIME:20231031T140000
DTEND;TZID=America/Sao_Paulo;VALUE=DATE-TIME:20231031T170000
DTSTAMP;VALUE=DATE-TIME:20260420T143430Z
UID:2b691c239e1243f59975e8910b2de095@150.164.76.86:8080
CREATED;VALUE=DATE-TIME:20230705T192354Z
DESCRIPTION:<p>lançamento edital - 10 poltronas auditorio reitoria para p
 ainel - pulpito reitora</p>
LAST-MODIFIED;VALUE=DATE-TIME:20230725T150132Z
URL:http://150.164.76.86:8080/cac/agenda/14803928405995508357
END:VEVENT
BEGIN:VTIMEZONE
TZID:America/Sao_Paulo
X-LIC-LOCATION:America/Sao_Paulo
BEGIN:DAYLIGHT
DTSTART;VALUE=DATE-TIME:20231015T010000
TZNAME:BRST
TZOFFSETFROM:-0300
TZOFFSETTO:-0200
END:DAYLIGHT
END:VTIMEZONE
END:VCALENDAR
