BEGIN:VCALENDAR
VERSION:2.0
PRODID:-//Plone.org//NONSGML plone.app.event//EN
X-WR-TIMEZONE:America/Sao_Paulo
BEGIN:VEVENT
SUMMARY:Conferência de Abertura da SEVFALE  (Faculdade de Letras) em [ Ou
 tros espacos]
DTSTART;TZID=America/Sao_Paulo;VALUE=DATE-TIME:20220509T170000
DTEND;TZID=America/Sao_Paulo;VALUE=DATE-TIME:20220509T190000
DTSTAMP;VALUE=DATE-TIME:20260422T063543Z
UID:4c242e5a66fb49d7b1e398c1d2d301b8@150.164.76.86:8080
CREATED;VALUE=DATE-TIME:20220420T161545Z
DESCRIPTION:<p>Conferência de abertura da Semana de Eventos da Faculdade 
 de Letras (SEVFALE)\, que contará com convidado internacional para discut
 ir o futuro das humanidades no pós-pandemia. O público-alvo são os estu
 dantes da Faculdade de Letras\, mas o convite é estendido aos demais curs
 os na área de Humanidades. A reitora manifestou interesse de realizar a a
 bertura do evento e para garantir as condições de distanciamento\, o ref
 erido auditório é o mais recomendado. Para a solicitação dessa reserva
 \, verificamos que os auditórios do CAD2 não estão reservados para aula
  neste dia\, e a atividade prevista é apenas das 17h às 19h. Além disso
 \, já foi acordado com a Coordenação da CAC que a solicitação seria f
 eita nestes termos para a aprovação.</p>
LAST-MODIFIED;VALUE=DATE-TIME:20220425T204901Z
URL:http://150.164.76.86:8080/cac/agenda/14798792573419063746
END:VEVENT
BEGIN:VTIMEZONE
TZID:America/Sao_Paulo
X-LIC-LOCATION:America/Sao_Paulo
BEGIN:STANDARD
DTSTART;VALUE=DATE-TIME:20220219T230000
TZNAME:BRT
TZOFFSETFROM:-0200
TZOFFSETTO:-0300
END:STANDARD
END:VTIMEZONE
END:VCALENDAR
