BEGIN:VCALENDAR
VERSION:2.0
PRODID:-//Plone.org//NONSGML plone.app.event//EN
X-WR-TIMEZONE:America/Sao_Paulo
BEGIN:VEVENT
SUMMARY:Vestibular de Medicina FAME em [ Auditorio Nobre do CAD 1 Auditori
 o 1A do CAD 1 Auditorio 2A do CAD 1]
DTSTART;TZID=America/Sao_Paulo;VALUE=DATE-TIME:20231029T060000
DTEND;TZID=America/Sao_Paulo;VALUE=DATE-TIME:20231029T210000
DTSTAMP;VALUE=DATE-TIME:20260420T172139Z
UID:4e41f944c4c246c3a435adf57bc443e1@150.164.76.86:8080
CREATED;VALUE=DATE-TIME:20230607T133613Z
DESCRIPTION:<p>Vestibular de Medicina FAME</p>
LAST-MODIFIED;VALUE=DATE-TIME:20230926T145910Z
URL:http://150.164.76.86:8080/cac/agenda/14789473010745037643
END:VEVENT
BEGIN:VTIMEZONE
TZID:America/Sao_Paulo
X-LIC-LOCATION:America/Sao_Paulo
BEGIN:DAYLIGHT
DTSTART;VALUE=DATE-TIME:20231015T010000
TZNAME:BRST
TZOFFSETFROM:-0300
TZOFFSETTO:-0200
END:DAYLIGHT
END:VTIMEZONE
END:VCALENDAR
