BEGIN:VCALENDAR
VERSION:2.0
PRODID:-//Plone.org//NONSGML plone.app.event//EN
X-WR-TIMEZONE:America/Sao_Paulo
BEGIN:VEVENT
SUMMARY:1ª Jornada de Avaliação da UFMG em [ Outros espacos]
DTSTART;TZID=America/Sao_Paulo;VALUE=DATE-TIME:20231110T090000
DTEND;TZID=America/Sao_Paulo;VALUE=DATE-TIME:20231110T173000
DTSTAMP;VALUE=DATE-TIME:20260420T132151Z
UID:ab57b419b1834fba98671542da92bf14@150.164.76.86:8080
CREATED;VALUE=DATE-TIME:20230705T124504Z
DESCRIPTION:Equipamentos:\n- data show\n- microfone\n\nDiscussão com grup
 os de trabalho (manhã e tarde).\nProgramação completa estará disponív
 el em breve.
LAST-MODIFIED;VALUE=DATE-TIME:20230705T173351Z
URL:http://150.164.76.86:8080/cac/agenda/14789231226921368517
END:VEVENT
BEGIN:VTIMEZONE
TZID:America/Sao_Paulo
X-LIC-LOCATION:America/Sao_Paulo
BEGIN:DAYLIGHT
DTSTART;VALUE=DATE-TIME:20231015T010000
TZNAME:BRST
TZOFFSETFROM:-0300
TZOFFSETTO:-0200
END:DAYLIGHT
END:VTIMEZONE
END:VCALENDAR
