BEGIN:VCALENDAR
VERSION:2.0
PRODID:-//Plone.org//NONSGML plone.app.event//EN
X-WR-TIMEZONE:America/Sao_Paulo
BEGIN:VEVENT
SUMMARY:Feira Preta - Novembro Negro UFMG 2023 em [ Entorno da Praca de Se
 rvicos]
DTSTART;TZID=America/Sao_Paulo;VALUE=DATE-TIME:20231123T070000
DTEND;TZID=America/Sao_Paulo;VALUE=DATE-TIME:20231124T220000
DTSTAMP;VALUE=DATE-TIME:20260420T142747Z
UID:cdfae91b498944a39a9086738bee9b03@150.164.76.86:8080
CREATED;VALUE=DATE-TIME:20230901T141622Z
DESCRIPTION:A Feira Preta é atividade cultural organizada pelo Novembro N
 egro.\n\nEla irá reunir diferentes expositores no entorno da Praça de Se
 rviços.
LAST-MODIFIED;VALUE=DATE-TIME:20230904T145051Z
URL:http://150.164.76.86:8080/cac/agenda/14786562018011467553
END:VEVENT
BEGIN:VTIMEZONE
TZID:America/Sao_Paulo
X-LIC-LOCATION:America/Sao_Paulo
BEGIN:DAYLIGHT
DTSTART;VALUE=DATE-TIME:20231015T010000
TZNAME:BRST
TZOFFSETFROM:-0300
TZOFFSETTO:-0200
END:DAYLIGHT
END:VTIMEZONE
END:VCALENDAR
