BEGIN:VCALENDAR
VERSION:2.0
PRODID:-//Plone.org//NONSGML plone.app.event//EN
X-WR-TIMEZONE:America/Sao_Paulo
BEGIN:VEVENT
SUMMARY:Ao Cair da Tarde - Circuito Cultural UFMG  em [ Arena da praça de
  serviços]
DTSTART;TZID=America/Sao_Paulo;VALUE=DATE-TIME:20200924T150000
DTEND;TZID=America/Sao_Paulo;VALUE=DATE-TIME:20200924T200000
DTSTAMP;VALUE=DATE-TIME:20260424T185120Z
UID:9271e519f9de4872969175dd8d621bb9@150.164.76.86:8080
CREATED;VALUE=DATE-TIME:20200214T183023Z
DESCRIPTION:Evento Ao Cair da Tarde\, realizado pela Diretoria de Ação C
 ultural da UFMG. As demandas técnicas serão encaminhadas\, oportunamente
 \, pelo setor de Produção Executiva (Rosangela\, Danielle e André - 340
 9-6412 eventos@dac.ufmg.br).
LAST-MODIFIED;VALUE=DATE-TIME:20200217T134839Z
URL:http://150.164.76.86:8080/cac/agenda/14772344865942058905
END:VEVENT
BEGIN:VTIMEZONE
TZID:America/Sao_Paulo
X-LIC-LOCATION:America/Sao_Paulo
BEGIN:STANDARD
DTSTART;VALUE=DATE-TIME:20200215T230000
TZNAME:BRT
TZOFFSETFROM:-0200
TZOFFSETTO:-0300
END:STANDARD
END:VTIMEZONE
END:VCALENDAR
