BEGIN:VCALENDAR
VERSION:2.0
PRODID:-//Plone.org//NONSGML plone.app.event//EN
X-WR-TIMEZONE:America/Sao_Paulo
BEGIN:VEVENT
SUMMARY:Reserva de espaço físico - Concursos em [ Auditorio Nobre do CAD
  1 Auditorio 1A do CAD 1 Auditorio 2A do CAD 1 Auditorio A102 do Cad 2 Aud
 itorio A104 do Cad 2 Auditório B302 do CAD 3 Auditório B107 do CAD3]
DTSTART;TZID=America/Sao_Paulo;VALUE=DATE-TIME:20221008T050000
DTEND;TZID=America/Sao_Paulo;VALUE=DATE-TIME:20221009T210000
DTSTAMP;VALUE=DATE-TIME:20260421T235306Z
UID:5bf1949664d64312b65ee379081e1fa4@150.164.76.86:8080
CREATED;VALUE=DATE-TIME:20220902T132711Z
DESCRIPTION:<p><span></span>Solicitação recebida por e-mail dia 01/09/20
 22 -reserva para aplicação de concurso</p>
LAST-MODIFIED;VALUE=DATE-TIME:20230111T201058Z
URL:http://150.164.76.86:8080/cac/agenda/14770474498739421710
END:VEVENT
BEGIN:VTIMEZONE
TZID:America/Sao_Paulo
X-LIC-LOCATION:America/Sao_Paulo
BEGIN:STANDARD
DTSTART;VALUE=DATE-TIME:20220219T230000
TZNAME:BRT
TZOFFSETFROM:-0200
TZOFFSETTO:-0300
END:STANDARD
END:VTIMEZONE
END:VCALENDAR
