BEGIN:VCALENDAR
VERSION:2.0
PRODID:-//Plone.org//NONSGML plone.app.event//EN
X-WR-TIMEZONE:America/Sao_Paulo
BEGIN:VEVENT
SUMMARY:Cerimônia de outorga do título de Professor Emérito ao Professo
 r Oswaldo Bueno Amorim Filho em [ Auditorio Nobre do CAD 1]
DTSTART;TZID=America/Sao_Paulo;VALUE=DATE-TIME:20230314T180000
DTEND;TZID=America/Sao_Paulo;VALUE=DATE-TIME:20230314T200000
DTSTAMP;VALUE=DATE-TIME:20260421T164026Z
UID:2cf298142e154a4bb99ca625ed08c228@150.164.76.86:8080
CREATED;VALUE=DATE-TIME:20230125T170116Z
DESCRIPTION:<p>Cerimônia de outorga do título de Professor Emérito ao P
 rofessor Oswaldo Bueno Amorim Filho\, do Instituto de Geociências. Estamo
 s em contato com o Sr. Rafael do Cerimonial da UFMG para maiores detalhes 
 sobre equipamentos\, serviços necessários e programação do evento.</p>
LAST-MODIFIED;VALUE=DATE-TIME:20230130T133328Z
URL:http://150.164.76.86:8080/cac/agenda/14759018961111658031
END:VEVENT
BEGIN:VTIMEZONE
TZID:America/Sao_Paulo
X-LIC-LOCATION:America/Sao_Paulo
BEGIN:STANDARD
DTSTART;VALUE=DATE-TIME:20230225T230000
TZNAME:BRT
TZOFFSETFROM:-0200
TZOFFSETTO:-0300
END:STANDARD
END:VTIMEZONE
END:VCALENDAR
