BEGIN:VCALENDAR
VERSION:2.0
PRODID:-//Plone.org//NONSGML plone.app.event//EN
X-WR-TIMEZONE:America/Sao_Paulo
BEGIN:VEVENT
SUMMARY:Feira Preta - Novembro Negro UFMG 2023 em [ Entorno da Praca de Se
 rvicos]
DTSTART;TZID=America/Sao_Paulo;VALUE=DATE-TIME:20231109T080000
DTEND;TZID=America/Sao_Paulo;VALUE=DATE-TIME:20231110T170000
DTSTAMP;VALUE=DATE-TIME:20260420T131548Z
UID:07da92a9c9a248339d43bc555e5d1804@150.164.76.86:8080
CREATED;VALUE=DATE-TIME:20230901T151706Z
DESCRIPTION:A Feira Preta acontece no âmbito do Novembro Negro UFMG 2023.
 \n\nA Feira irá reunir diferentes expositores entorno da Praça de Servi
 ços.
LAST-MODIFIED;VALUE=DATE-TIME:20230901T152608Z
URL:http://150.164.76.86:8080/cac/agenda/14758248845597601250
END:VEVENT
BEGIN:VTIMEZONE
TZID:America/Sao_Paulo
X-LIC-LOCATION:America/Sao_Paulo
BEGIN:DAYLIGHT
DTSTART;VALUE=DATE-TIME:20231015T010000
TZNAME:BRST
TZOFFSETFROM:-0300
TZOFFSETTO:-0200
END:DAYLIGHT
END:VTIMEZONE
END:VCALENDAR
