BEGIN:VCALENDAR
VERSION:2.0
PRODID:-//Plone.org//NONSGML plone.app.event//EN
X-WR-TIMEZONE:America/Sao_Paulo
BEGIN:VEVENT
SUMMARY:Eu faço IC\, e você? em [ Entorno da Praca de Servicos Arena da 
 praça de serviços]
DTSTART;TZID=America/Sao_Paulo;VALUE=DATE-TIME:20240425T080000
DTEND;TZID=America/Sao_Paulo;VALUE=DATE-TIME:20240425T190000
DTSTAMP;VALUE=DATE-TIME:20260420T044633Z
UID:7f559ed0c2834cde9d03d3502673e391@150.164.76.86:8080
CREATED;VALUE=DATE-TIME:20240222T175246Z
DESCRIPTION:<p>O evento será realizado em dois turnos. Há a programaçã
 o de que sejam colocados 16 stands para a apresentação de projetos de pe
 squisa pelos alunos ao redor da praça. Vamos precisar de extensão para l
 igar dois totens onde será realizada a votação de melhor trabalho. Na p
 arte central da praça\, será realizado o fechamento do evento com a divu
 lgação dos premiados. Assim\, vamos necessitar de caixas de som e microf
 ones.</p>
LAST-MODIFIED;VALUE=DATE-TIME:20240417T172711Z
URL:http://150.164.76.86:8080/cac/agenda/14745018686294957600
END:VEVENT
BEGIN:VTIMEZONE
TZID:America/Sao_Paulo
X-LIC-LOCATION:America/Sao_Paulo
BEGIN:STANDARD
DTSTART;VALUE=DATE-TIME:20240217T230000
TZNAME:BRT
TZOFFSETFROM:-0200
TZOFFSETTO:-0300
END:STANDARD
END:VTIMEZONE
END:VCALENDAR
