BEGIN:VCALENDAR
VERSION:2.0
PRODID:-//Plone.org//NONSGML plone.app.event//EN
X-WR-TIMEZONE:America/Sao_Paulo
BEGIN:VEVENT
SUMMARY:Evento institucional | Fundepar 10 anos em [ Auditorio A102 do Cad
  2]
DTSTART;TZID=America/Sao_Paulo;VALUE=DATE-TIME:20230621T060000
DTEND;TZID=America/Sao_Paulo;VALUE=DATE-TIME:20230621T180000
DTSTAMP;VALUE=DATE-TIME:20260421T133056Z
UID:80976a2de6794831b46ffb3d9f711f08@150.164.76.86:8080
CREATED;VALUE=DATE-TIME:20230417T140708Z
DESCRIPTION:<p>Em maio de 2013\, a Fundep Participações surgia no ambien
 te de inovação da Universidade Federal de Minas Gerais com o objetivo 
 de desenvolver negócios em estágio inicial de origem acadêmica. Em 10
  anos de atuação\, a Fundepar consolidou sua referência na conexão ent
 re a Universidade e o mercado\, apoiando o empreendedorismo tecnológico n
 acional. Uma história que contemplou mais de 40 empresas e mobilizou cerc
 a de R$ 85 milhões de investimento. Para fortalecer essa trajetória\, co
 nstruída a partir e junto à UFMG\, a Fundep vai promover o evento de cel
 ebração dos 10 anos da Fundepar. Praticando a própria missão da instit
 uição\, o evento será realizado no campus Pampulha e pretende receber a
 cadêmicos\, investidores\, empreendimentos de base acadêmica e represent
 antes do mercado de inovação. Com a temática O papel do empreendedo
 rismo no sistema de Ciência\, Tecnologia e Inovação\, a programaç
 ão irá promover quatro momentos: Abertura institucional\, na qual gostar
 íamos de ser agraciados com suas reflexões acerca dos avanços da UFMG c
 omo espaço transdisciplinar que favorece o empreendedorismo e a inovaçã
 o\; Curtas palestras sobre os pilares da atuação da Fundepar – o cená
 rio do empreendedorismo nacional\, exemplos de empreendedorismo na UFM
 G\, caminhos para o desenvolvimento da inovação\, e tecnologias sociais\
 ; Apresentação da Fundepar\, celebrando os avanços dos 10 anos de exist
 ência e lançando o novo veículo de investimento\, focado em tecnologias
  sociais\; Fechamento com um momento de conexão entre a rede dos atores p
 articipantes.</p>
LAST-MODIFIED;VALUE=DATE-TIME:20230418T141959Z
URL:http://150.164.76.86:8080/cac/agenda/14743821836641009518
END:VEVENT
BEGIN:VTIMEZONE
TZID:America/Sao_Paulo
X-LIC-LOCATION:America/Sao_Paulo
BEGIN:STANDARD
DTSTART;VALUE=DATE-TIME:20230225T230000
TZNAME:BRT
TZOFFSETFROM:-0200
TZOFFSETTO:-0300
END:STANDARD
END:VTIMEZONE
END:VCALENDAR
