BEGIN:VCALENDAR
VERSION:2.0
PRODID:-//Plone.org//NONSGML plone.app.event//EN
X-WR-TIMEZONE:America/Sao_Paulo
BEGIN:VEVENT
SUMMARY:22ª Jornada de Extensão em [ Gramado da Reitoria Auditorio Nobre
  do CAD 1 Auditorio 1A do CAD 1 Auditorio 2A do CAD 1 Outros espacos]
DTSTART;TZID=America/Sao_Paulo;VALUE=DATE-TIME:20230510T000000
DTEND;TZID=America/Sao_Paulo;VALUE=DATE-TIME:20230510T230000
DTSTAMP;VALUE=DATE-TIME:20260421T115745Z
UID:c1796d9d91514256b89101d638081a12@150.164.76.86:8080
CREATED;VALUE=DATE-TIME:20221110T131632Z
DESCRIPTION:<p>22ª Jornada de Extensão</p>
LAST-MODIFIED;VALUE=DATE-TIME:20230406T134816Z
URL:http://150.164.76.86:8080/cac/agenda/14727633295121071103
END:VEVENT
BEGIN:VTIMEZONE
TZID:America/Sao_Paulo
X-LIC-LOCATION:America/Sao_Paulo
BEGIN:STANDARD
DTSTART;VALUE=DATE-TIME:20230225T230000
TZNAME:BRT
TZOFFSETFROM:-0200
TZOFFSETTO:-0300
END:STANDARD
END:VTIMEZONE
END:VCALENDAR
