BEGIN:VCALENDAR
VERSION:2.0
PRODID:-//Plone.org//NONSGML plone.app.event//EN
X-WR-TIMEZONE:America/Sao_Paulo
BEGIN:VEVENT
SUMMARY:Transmissão sorteio EMEI Alaíde Lisboa em [ Outros espacos]
DTSTART;TZID=America/Sao_Paulo;VALUE=DATE-TIME:20231127T140000
DTEND;TZID=America/Sao_Paulo;VALUE=DATE-TIME:20231127T143000
DTSTAMP;VALUE=DATE-TIME:20260420T130751Z
UID:1d48374681dd431f9ad609b90f6da4b3@150.164.76.86:8080
CREATED;VALUE=DATE-TIME:20231123T131331Z
DESCRIPTION:Evento on line. Transmissão do sorteio das vagas da comunidad
 e UFMG na EMEI Alaíde Lisboa
LAST-MODIFIED;VALUE=DATE-TIME:20231123T131425Z
URL:http://150.164.76.86:8080/cac/agenda/1471638291381547368
END:VEVENT
BEGIN:VTIMEZONE
TZID:America/Sao_Paulo
X-LIC-LOCATION:America/Sao_Paulo
BEGIN:DAYLIGHT
DTSTART;VALUE=DATE-TIME:20231015T010000
TZNAME:BRST
TZOFFSETFROM:-0300
TZOFFSETTO:-0200
END:DAYLIGHT
END:VTIMEZONE
END:VCALENDAR
