BEGIN:VCALENDAR
VERSION:2.0
PRODID:-//Plone.org//NONSGML plone.app.event//EN
X-WR-TIMEZONE:America/Sao_Paulo
BEGIN:VEVENT
SUMMARY:29º Congresso Nacional de Pós- Graduandos  em [ Auditorio A102 d
 o Cad 2 Auditorio A104 do Cad 2]
DTSTART;TZID=America/Sao_Paulo;VALUE=DATE-TIME:20240708T080000
DTEND;TZID=America/Sao_Paulo;VALUE=DATE-TIME:20240714T210000
DTSTAMP;VALUE=DATE-TIME:20260419T234814Z
UID:5670d5b571f449f38bf35e7bf49b9735@150.164.76.86:8080
CREATED;VALUE=DATE-TIME:20240430T152139Z
DESCRIPTION:<p>PRPG</p>
LAST-MODIFIED;VALUE=DATE-TIME:20240701T135239Z
URL:http://150.164.76.86:8080/cac/agenda/14706544084199092589
END:VEVENT
BEGIN:VTIMEZONE
TZID:America/Sao_Paulo
X-LIC-LOCATION:America/Sao_Paulo
BEGIN:STANDARD
DTSTART;VALUE=DATE-TIME:20240217T230000
TZNAME:BRT
TZOFFSETFROM:-0200
TZOFFSETTO:-0300
END:STANDARD
END:VTIMEZONE
END:VCALENDAR
