BEGIN:VCALENDAR
VERSION:2.0
PRODID:-//Plone.org//NONSGML plone.app.event//EN
X-WR-TIMEZONE:America/Sao_Paulo
BEGIN:VEVENT
SUMMARY:Evento de André Rezende em [ Outros espacos]
DTSTART;TZID=America/Sao_Paulo;VALUE=DATE-TIME:20230922T080000
DTEND;TZID=America/Sao_Paulo;VALUE=DATE-TIME:20230922T130000
DTSTAMP;VALUE=DATE-TIME:20260421T075425Z
UID:93d9700263b244b0ac068c35b358b66e@150.164.76.86:8080
CREATED;VALUE=DATE-TIME:20230811T174721Z
DESCRIPTION:<p>Apresentação de Dueto (Guitarra + Teclado). Previsão de 
 começo\, às 10h\, com duração de aproximadamente 40 minutos.<br />Os e
 quipamentos irão no dia anterior e ficarão guardados em uma sala do Hosp
 ital.<br />Demanda: P.A + 2 Retornos + Mesa de som\, microfones e cabeamen
 to.<br />Transporte por conta da PROCULT (Kombi sem bancos).</p>\n<p> </p
 >
LAST-MODIFIED;VALUE=DATE-TIME:20230912T141556Z
URL:http://150.164.76.86:8080/cac/agenda/14703935231636482692
END:VEVENT
BEGIN:VTIMEZONE
TZID:America/Sao_Paulo
X-LIC-LOCATION:America/Sao_Paulo
BEGIN:STANDARD
DTSTART;VALUE=DATE-TIME:20230225T230000
TZNAME:BRT
TZOFFSETFROM:-0200
TZOFFSETTO:-0300
END:STANDARD
END:VTIMEZONE
END:VCALENDAR
