BEGIN:VCALENDAR
VERSION:2.0
PRODID:-//Plone.org//NONSGML plone.app.event//EN
X-WR-TIMEZONE:America/Sao_Paulo
BEGIN:VEVENT
SUMMARY:Apoio técnico na Sala das Sessões - Assinatura de protocolo com 
 Reitores do FORIPES em [ Outros espacos]
DTSTART;TZID=America/Sao_Paulo;VALUE=DATE-TIME:20250127T100000
DTEND;TZID=America/Sao_Paulo;VALUE=DATE-TIME:20250127T120000
DTSTAMP;VALUE=DATE-TIME:20260419T145019Z
UID:a34ed785dd84451eaa2d12ec5e0670d2@150.164.76.86:8080
CREATED;VALUE=DATE-TIME:20250115T193103Z
DESCRIPTION:<p><span>Apoio técnico na Sala das Sessões dia 27/01 às 10 
 horas - Assinatura de protocolo com Reitores do FORIPES</span></p>\n<p><sp
 an><span>Contato para detalhes: Profa. Maria Flores - PROGRAD</span></span
 ></p>
LAST-MODIFIED;VALUE=DATE-TIME:20250115T193115Z
URL:http://150.164.76.86:8080/cac/agenda/14700873712272084800
END:VEVENT
BEGIN:VTIMEZONE
TZID:America/Sao_Paulo
X-LIC-LOCATION:America/Sao_Paulo
BEGIN:DAYLIGHT
DTSTART;VALUE=DATE-TIME:20241020T010000
TZNAME:BRST
TZOFFSETFROM:-0300
TZOFFSETTO:-0200
END:DAYLIGHT
END:VTIMEZONE
END:VCALENDAR
