BEGIN:VCALENDAR
VERSION:2.0
PRODID:-//Plone.org//NONSGML plone.app.event//EN
X-WR-TIMEZONE:America/Sao_Paulo
BEGIN:VEVENT
SUMMARY:Limpeza Geral Aud Nobre em [ Auditorio Nobre do CAD 1]
DTSTART;TZID=America/Sao_Paulo;VALUE=DATE-TIME:20240126T070000
DTEND;TZID=America/Sao_Paulo;VALUE=DATE-TIME:20240130T180000
DTSTAMP;VALUE=DATE-TIME:20260420T111133Z
UID:c88bc091da4a4acd80423115475b1c4b@150.164.76.86:8080
CREATED;VALUE=DATE-TIME:20240124T130851Z
DESCRIPTION:<p>Lavação do Aud Nobre\, corredores laterais\, cabine e ram
 pa </p>
LAST-MODIFIED;VALUE=DATE-TIME:20240124T130938Z
URL:http://150.164.76.86:8080/cac/agenda/14689442770514267059
END:VEVENT
BEGIN:VTIMEZONE
TZID:America/Sao_Paulo
X-LIC-LOCATION:America/Sao_Paulo
BEGIN:DAYLIGHT
DTSTART;VALUE=DATE-TIME:20231015T010000
TZNAME:BRST
TZOFFSETFROM:-0300
TZOFFSETTO:-0200
END:DAYLIGHT
END:VTIMEZONE
END:VCALENDAR
