BEGIN:VCALENDAR
VERSION:2.0
PRODID:-//Plone.org//NONSGML plone.app.event//EN
X-WR-TIMEZONE:America/Sao_Paulo
BEGIN:VEVENT
SUMMARY:Recepção de calouros UFMG 1º/2022 em [ Saguao da Reitoria Audit
 orio da Reitoria Gramado da Reitoria Auditorio Nobre do CAD 1 Auditorio 1A
  do CAD 1 Auditorio 2A do CAD 1 Auditorio A102 do Cad 2 Auditorio A104 do 
 Cad 2 Outros espacos Auditório B302 do CAD 3 Auditório B101/102 do CAD 3
  Auditório B301 do CAD 3]
DTSTART;TZID=America/Sao_Paulo;VALUE=DATE-TIME:20220331T060000
DTEND;TZID=America/Sao_Paulo;VALUE=DATE-TIME:20220331T230000
DTSTAMP;VALUE=DATE-TIME:20260422T110327Z
UID:98b1e4859f6e486a8ef888e50ca5f951@150.164.76.86:8080
CREATED;VALUE=DATE-TIME:20220311T184713Z
DESCRIPTION:<p>Recepção de calouros</p>
LAST-MODIFIED;VALUE=DATE-TIME:20230111T201034Z
URL:http://150.164.76.86:8080/cac/agenda/14682943009582524332
END:VEVENT
BEGIN:VTIMEZONE
TZID:America/Sao_Paulo
X-LIC-LOCATION:America/Sao_Paulo
BEGIN:STANDARD
DTSTART;VALUE=DATE-TIME:20220219T230000
TZNAME:BRT
TZOFFSETFROM:-0200
TZOFFSETTO:-0300
END:STANDARD
END:VTIMEZONE
END:VCALENDAR
