BEGIN:VCALENDAR
VERSION:2.0
PRODID:-//Plone.org//NONSGML plone.app.event//EN
X-WR-TIMEZONE:America/Sao_Paulo
BEGIN:VEVENT
SUMMARY:Cerimônia de 95 anos da Fump em [ Auditorio da Reitoria]
DTSTART;TZID=America/Sao_Paulo;VALUE=DATE-TIME:20240930T170000
DTEND;TZID=America/Sao_Paulo;VALUE=DATE-TIME:20240930T220000
DTSTAMP;VALUE=DATE-TIME:20260419T204324Z
UID:df967c24a27246a59af40a1c333dcb3d@150.164.76.86:8080
CREATED;VALUE=DATE-TIME:20240830T203107Z
DESCRIPTION:<p>Cerimônia de celebração dos 95 anos da Fump. Evento no A
 uditório da Reitoria. Presença confirmada da Reitora e do Vice-Reitor. P
 rogramação: Composição de mesa Hino Nacional Agradecimento as autorida
 des presentes Abertura do evento com vídeo institucional dos 95 anos da F
 ump Fala do Vice-Reitor - Prof. Alessandro Fernandes Moreira Fala da Presi
 denta da Fump - Profª Teresa Cristina da Silva Kurimoto Homenagem e entre
 ga de placa aos 10 ex-presidentes da Fump Lançamento da campanha de doaç
 ão voluntária para Assistência Estudantil Fala de encerramento da Reito
 ra - Profª Sandra Regina Goulart Serviços Necessários: Intérprete de l
 ibras Sonorização Iluminação Projeção de vídeos Fotografia Cerimoni
 al UFMG Serviços de limpeza do auditório Copeiro Mestre de Cerimônia Hi
 no Nacional Gravação áudio visual da cerimônia Equipamentos: Microfone
 s Púlpito Equipamento de áudio\, vídeo e projeção Copos e água para 
 a composição de mesa Toalha de mesa com o brasão da UFMG Bandeiras Bras
 il/MG/BH/UFMG Mesas e cadeiras no palco Desde já agradecemos Profª Teres
 a Kurimoto Presidenta</p>
LAST-MODIFIED;VALUE=DATE-TIME:20240916T205458Z
URL:http://150.164.76.86:8080/cac/agenda/146779850871611584
END:VEVENT
BEGIN:VTIMEZONE
TZID:America/Sao_Paulo
X-LIC-LOCATION:America/Sao_Paulo
BEGIN:STANDARD
DTSTART;VALUE=DATE-TIME:20240217T230000
TZNAME:BRT
TZOFFSETFROM:-0200
TZOFFSETTO:-0300
END:STANDARD
END:VTIMEZONE
END:VCALENDAR
