BEGIN:VCALENDAR
VERSION:2.0
PRODID:-//Plone.org//NONSGML plone.app.event//EN
X-WR-TIMEZONE:America/Sao_Paulo
BEGIN:VEVENT
SUMMARY:Premiação OBMEP em [ Auditorio Nobre do CAD 1]
DTSTART;TZID=America/Sao_Paulo;VALUE=DATE-TIME:20231212T190000
DTEND;TZID=America/Sao_Paulo;VALUE=DATE-TIME:20231212T210000
DTSTAMP;VALUE=DATE-TIME:20260420T115112Z
UID:837972396db14bd7bd36c4e0dc168212@150.164.76.86:8080
CREATED;VALUE=DATE-TIME:20231020T135430Z
DESCRIPTION:<p>Precisaremos de microfone.</p>
LAST-MODIFIED;VALUE=DATE-TIME:20231024T124855Z
URL:http://150.164.76.86:8080/cac/agenda/14650477241838467054
END:VEVENT
BEGIN:VTIMEZONE
TZID:America/Sao_Paulo
X-LIC-LOCATION:America/Sao_Paulo
BEGIN:DAYLIGHT
DTSTART;VALUE=DATE-TIME:20231015T010000
TZNAME:BRST
TZOFFSETFROM:-0300
TZOFFSETTO:-0200
END:DAYLIGHT
END:VTIMEZONE
END:VCALENDAR
