BEGIN:VCALENDAR
VERSION:2.0
PRODID:-//Plone.org//NONSGML plone.app.event//EN
X-WR-TIMEZONE:America/Sao_Paulo
BEGIN:VEVENT
SUMMARY:Bloqueio CAC para manutenção de espaços e equipamentos em [ Aud
 itorio Nobre do CAD 1]
DTSTART;TZID=America/Sao_Paulo;VALUE=DATE-TIME:20241202T070000
DTEND;TZID=America/Sao_Paulo;VALUE=DATE-TIME:20241206T210000
DTSTAMP;VALUE=DATE-TIME:20260419T150425Z
UID:6e9a8708ad134f0583dc9d2c967bbefd@150.164.76.86:8080
CREATED;VALUE=DATE-TIME:20240122T175204Z
DESCRIPTION:<p>manutenção CAC</p>
LAST-MODIFIED;VALUE=DATE-TIME:20240701T175201Z
URL:http://150.164.76.86:8080/cac/agenda/14644771673986283804
END:VEVENT
BEGIN:VTIMEZONE
TZID:America/Sao_Paulo
X-LIC-LOCATION:America/Sao_Paulo
BEGIN:DAYLIGHT
DTSTART;VALUE=DATE-TIME:20241020T010000
TZNAME:BRST
TZOFFSETFROM:-0300
TZOFFSETTO:-0200
END:DAYLIGHT
END:VTIMEZONE
END:VCALENDAR
