BEGIN:VCALENDAR
VERSION:2.0
PRODID:-//Plone.org//NONSGML plone.app.event//EN
X-WR-TIMEZONE:America/Sao_Paulo
BEGIN:VEVENT
SUMMARY:Feira da UFMG - Aqui tem Agroecologia e Economia Popular Solidári
 a em [ Entorno da Praca de Servicos]
DTSTART;TZID=America/Sao_Paulo;VALUE=DATE-TIME:20250312T080000
DTEND;TZID=America/Sao_Paulo;VALUE=DATE-TIME:20250312T180000
DTSTAMP;VALUE=DATE-TIME:20260419T120123Z
UID:7c035c4a2a9d412e9b1d822947bf9b90@150.164.76.86:8080
CREATED;VALUE=DATE-TIME:20241125T131142Z
DESCRIPTION:A programação do evento ainda não foi definida.
LAST-MODIFIED;VALUE=DATE-TIME:20241125T131621Z
URL:http://150.164.76.86:8080/cac/agenda/14639329811112332709
END:VEVENT
BEGIN:VTIMEZONE
TZID:America/Sao_Paulo
X-LIC-LOCATION:America/Sao_Paulo
BEGIN:STANDARD
DTSTART;VALUE=DATE-TIME:20250215T230000
TZNAME:BRT
TZOFFSETFROM:-0200
TZOFFSETTO:-0300
END:STANDARD
END:VTIMEZONE
END:VCALENDAR
