BEGIN:VCALENDAR
VERSION:2.0
PRODID:-//Plone.org//NONSGML plone.app.event//EN
X-WR-TIMEZONE:America/Sao_Paulo
BEGIN:VEVENT
SUMMARY:Relatos de Experiências com Processos Seriados - UnB\, UFJF e Ufl
 a em [ Auditorio da Reitoria]
DTSTART;TZID=America/Sao_Paulo;VALUE=DATE-TIME:20230821T140000
DTEND;TZID=America/Sao_Paulo;VALUE=DATE-TIME:20230821T170000
DTSTAMP;VALUE=DATE-TIME:20260421T091543Z
UID:cda33674f2c243b9a1a3c9a46f658938@150.164.76.86:8080
CREATED;VALUE=DATE-TIME:20230807T183545Z
DESCRIPTION:<p>Ar-condicionado\, microfone de mesa para três pessoas\, pr
 ojeção e microfone avulso. Necessitamos ainda de gravação e transmiss
 ão simultânea fechada para a membros do ICA - vídeo não listado.</p>
LAST-MODIFIED;VALUE=DATE-TIME:20230808T130349Z
URL:http://150.164.76.86:8080/cac/agenda/14638532301388690108
END:VEVENT
BEGIN:VTIMEZONE
TZID:America/Sao_Paulo
X-LIC-LOCATION:America/Sao_Paulo
BEGIN:STANDARD
DTSTART;VALUE=DATE-TIME:20230225T230000
TZNAME:BRT
TZOFFSETFROM:-0200
TZOFFSETTO:-0300
END:STANDARD
END:VTIMEZONE
END:VCALENDAR
