BEGIN:VCALENDAR
VERSION:2.0
PRODID:-//Plone.org//NONSGML plone.app.event//EN
X-WR-TIMEZONE:America/Sao_Paulo
BEGIN:VEVENT
SUMMARY:Feriado: Finados em [ Auditorio da Reitoria Saguao da Reitoria Gra
 mado da Reitoria Arena da praça de serviços Entorno da Praca de Servicos
  Auditorio Nobre do CAD 1 Auditorio 1A do CAD 1 Auditorio 2A do CAD 1 Audi
 torio A102 do Cad 2 Auditorio A104 do Cad 2 Auditório B101/102 do CAD 3 A
 uditório B106 do CAD3 Auditório B107 do CAD3]
DTSTART;TZID=America/Sao_Paulo;VALUE=DATE-TIME:20241102T070000
DTEND;TZID=America/Sao_Paulo;VALUE=DATE-TIME:20241102T220000
DTSTAMP;VALUE=DATE-TIME:20260419T163403Z
UID:088c9750a4fd4aed904c6d1a87056eb4@150.164.76.86:8080
CREATED;VALUE=DATE-TIME:20231106T133747Z
DESCRIPTION:<p>Feriado</p>
LAST-MODIFIED;VALUE=DATE-TIME:20231106T133823Z
URL:http://150.164.76.86:8080/cac/agenda/14628843980134875113
END:VEVENT
BEGIN:VTIMEZONE
TZID:America/Sao_Paulo
X-LIC-LOCATION:America/Sao_Paulo
BEGIN:DAYLIGHT
DTSTART;VALUE=DATE-TIME:20241020T010000
TZNAME:BRST
TZOFFSETFROM:-0300
TZOFFSETTO:-0200
END:DAYLIGHT
END:VTIMEZONE
END:VCALENDAR
