BEGIN:VCALENDAR
VERSION:2.0
PRODID:-//Plone.org//NONSGML plone.app.event//EN
X-WR-TIMEZONE:America/Sao_Paulo
BEGIN:VEVENT
SUMMARY:Palestra Frei Beto - a luta pela democracia  em [ Auditorio da Rei
 toria]
DTSTART;TZID=America/Sao_Paulo;VALUE=DATE-TIME:20220826T110000
DTEND;TZID=America/Sao_Paulo;VALUE=DATE-TIME:20220826T130000
DTSTAMP;VALUE=DATE-TIME:20260422T024851Z
UID:6418db7a26644edabbf46922878b84ab@150.164.76.86:8080
CREATED;VALUE=DATE-TIME:20220809T182503Z
DESCRIPTION:<p>Aguardar informações</p>
LAST-MODIFIED;VALUE=DATE-TIME:20220819T123023Z
URL:http://150.164.76.86:8080/cac/agenda/14627845385542829399
END:VEVENT
BEGIN:VTIMEZONE
TZID:America/Sao_Paulo
X-LIC-LOCATION:America/Sao_Paulo
BEGIN:STANDARD
DTSTART;VALUE=DATE-TIME:20220219T230000
TZNAME:BRT
TZOFFSETFROM:-0200
TZOFFSETTO:-0300
END:STANDARD
END:VTIMEZONE
END:VCALENDAR
