BEGIN:VCALENDAR
VERSION:2.0
PRODID:-//Plone.org//NONSGML plone.app.event//EN
X-WR-TIMEZONE:America/Sao_Paulo
BEGIN:VEVENT
SUMMARY:IX CONGRESSO BRASILEIRO DE PSICOLOGIA EXISTENCIAL em [ Auditorio N
 obre do CAD 1]
DTSTART;TZID=America/Sao_Paulo;VALUE=DATE-TIME:20231017T070000
DTEND;TZID=America/Sao_Paulo;VALUE=DATE-TIME:20231020T200000
DTSTAMP;VALUE=DATE-TIME:20260421T003543Z
UID:d5681b78b576476aa9bbe617264a9119@150.164.76.86:8080
CREATED;VALUE=DATE-TIME:20221214T123626Z
DESCRIPTION:<p>Microfones de mesa\, 03 salas de aulas para os dias 19 e 20
  de 08:00 as 10:00 para apresentação de comunicação cientifica dos ins
 critos. Saguão com painéis para divulgação dos posters. Copa/cozinha p
 ara coffee-break Evento acontecerá nos dias 18\,19 e 20 de outubro de 202
 3. Dia 18 iniciaremos os trabalhos as 16:00\, credenciamento dos participa
 ntes. Dia 19 e 20 a partir das 08\;00/21:00 Contaremos com a participaçã
 o de uma livraria no espaço da entrada do CAD Um espaço para guardar os 
 equipamentos e materiais do evento duramente a noite. OBS: RESERVA FEITA S
 EM SALAS DE AULA\, POR SER PERÍODO LETIVO.</p>
LAST-MODIFIED;VALUE=DATE-TIME:20231016T132931Z
URL:http://150.164.76.86:8080/cac/agenda/14615741955642386989
END:VEVENT
BEGIN:VTIMEZONE
TZID:America/Sao_Paulo
X-LIC-LOCATION:America/Sao_Paulo
BEGIN:DAYLIGHT
DTSTART;VALUE=DATE-TIME:20231015T010000
TZNAME:BRST
TZOFFSETFROM:-0300
TZOFFSETTO:-0200
END:DAYLIGHT
END:VTIMEZONE
END:VCALENDAR
