BEGIN:VCALENDAR
VERSION:2.0
PRODID:-//Plone.org//NONSGML plone.app.event//EN
X-WR-TIMEZONE:America/Sao_Paulo
BEGIN:VEVENT
SUMMARY:SESSÃO PÚBLICA CPPD VAGAS MAGISTÉRIO SUPERIOR COTAS em [ Outros
  espacos]
DTSTART;TZID=America/Sao_Paulo;VALUE=DATE-TIME:20231101T100000
DTEND;TZID=America/Sao_Paulo;VALUE=DATE-TIME:20231101T110000
DTSTAMP;VALUE=DATE-TIME:20260420T115106Z
UID:c9ac4ae8ac594e3fa20c6784904aef25@150.164.76.86:8080
CREATED;VALUE=DATE-TIME:20231003T204515Z
DESCRIPTION:<p>SESSÃO PÚBLICA CPPD VAGAS MAGISTÉRIO SUPERIOR COTAS plat
 aforma Zoom para transmissão do sorteio/sessão pública da CPPD\, no can
 al You Tube da CAC Chat fechado</p>
LAST-MODIFIED;VALUE=DATE-TIME:20231009T145133Z
URL:http://150.164.76.86:8080/cac/agenda/14599179930043265315
END:VEVENT
BEGIN:VTIMEZONE
TZID:America/Sao_Paulo
X-LIC-LOCATION:America/Sao_Paulo
BEGIN:DAYLIGHT
DTSTART;VALUE=DATE-TIME:20231015T010000
TZNAME:BRST
TZOFFSETFROM:-0300
TZOFFSETTO:-0200
END:DAYLIGHT
END:VTIMEZONE
END:VCALENDAR
