BEGIN:VCALENDAR
VERSION:2.0
PRODID:-//Plone.org//NONSGML plone.app.event//EN
X-WR-TIMEZONE:America/Sao_Paulo
BEGIN:VEVENT
SUMMARY: em [ Auditório B101/102 do CAD 3]
DTSTART;TZID=America/Sao_Paulo;VALUE=DATE-TIME:20230831T070000
DTEND;TZID=America/Sao_Paulo;VALUE=DATE-TIME:20230901T210000
DTSTAMP;VALUE=DATE-TIME:20260421T062345Z
UID:efc5295dc53c47e0af6b4a084f14e7fb@150.164.76.86:8080
CREATED;VALUE=DATE-TIME:20230710T181731Z
DESCRIPTION:<p>Para transferências das aulas que ocorreriam no 3º andar<
 /p>
LAST-MODIFIED;VALUE=DATE-TIME:20230714T150044Z
URL:http://150.164.76.86:8080/cac/agenda/14591370950339910024
END:VEVENT
BEGIN:VTIMEZONE
TZID:America/Sao_Paulo
X-LIC-LOCATION:America/Sao_Paulo
BEGIN:STANDARD
DTSTART;VALUE=DATE-TIME:20230225T230000
TZNAME:BRT
TZOFFSETFROM:-0200
TZOFFSETTO:-0300
END:STANDARD
END:VTIMEZONE
END:VCALENDAR
