BEGIN:VCALENDAR
VERSION:2.0
PRODID:-//Plone.org//NONSGML plone.app.event//EN
X-WR-TIMEZONE:America/Sao_Paulo
BEGIN:VEVENT
SUMMARY:Troca de Gestão da Inderios em [ Auditório B106 do CAD3]
DTSTART;TZID=America/Sao_Paulo;VALUE=DATE-TIME:20241220T153000
DTEND;TZID=America/Sao_Paulo;VALUE=DATE-TIME:20241220T203000
DTSTAMP;VALUE=DATE-TIME:20260419T164509Z
UID:d2c9f8a08deb450d8e486b2ebe8de41a@150.164.76.86:8080
CREATED;VALUE=DATE-TIME:20241129T163410Z
DESCRIPTION:<p>Será o evento de troca de gestão do projeto de extensão\
 , vamos precisar do projetor com som.</p>
LAST-MODIFIED;VALUE=DATE-TIME:20241210T180219Z
URL:http://150.164.76.86:8080/cac/agenda/14582799286478605375
END:VEVENT
BEGIN:VTIMEZONE
TZID:America/Sao_Paulo
X-LIC-LOCATION:America/Sao_Paulo
BEGIN:DAYLIGHT
DTSTART;VALUE=DATE-TIME:20241020T010000
TZNAME:BRST
TZOFFSETFROM:-0300
TZOFFSETTO:-0200
END:DAYLIGHT
END:VTIMEZONE
END:VCALENDAR
