BEGIN:VCALENDAR
VERSION:2.0
PRODID:-//Plone.org//NONSGML plone.app.event//EN
X-WR-TIMEZONE:America/Sao_Paulo
BEGIN:VEVENT
SUMMARY:Cerimônia de formatura dos cursos técnicos subsequentes do Colé
 gio Técnico em [ Auditorio A104 do Cad 2]
DTSTART;TZID=America/Sao_Paulo;VALUE=DATE-TIME:20241212T193000
DTEND;TZID=America/Sao_Paulo;VALUE=DATE-TIME:20241212T213000
DTSTAMP;VALUE=DATE-TIME:20260419T163547Z
UID:edc7cdc6e061433fbcd5c626add1d462@150.164.76.86:8080
CREATED;VALUE=DATE-TIME:20241204T185226Z
DESCRIPTION:Cerimônia de formatura dos estudantes dos cursos técnicos su
 bsequentes do Colégio Técnico da UFMG.
LAST-MODIFIED;VALUE=DATE-TIME:20241204T190144Z
URL:http://150.164.76.86:8080/cac/agenda/14561402467802492056
END:VEVENT
BEGIN:VTIMEZONE
TZID:America/Sao_Paulo
X-LIC-LOCATION:America/Sao_Paulo
BEGIN:DAYLIGHT
DTSTART;VALUE=DATE-TIME:20241020T010000
TZNAME:BRST
TZOFFSETFROM:-0300
TZOFFSETTO:-0200
END:DAYLIGHT
END:VTIMEZONE
END:VCALENDAR
