BEGIN:VCALENDAR
VERSION:2.0
PRODID:-//Plone.org//NONSGML plone.app.event//EN
X-WR-TIMEZONE:America/Sao_Paulo
BEGIN:VEVENT
SUMMARY:Cerimônia de professor emérito da Faculdade de Odontologia em [ 
 Outros espacos]
DTSTART;TZID=America/Sao_Paulo;VALUE=DATE-TIME:20230517T180000
DTEND;TZID=America/Sao_Paulo;VALUE=DATE-TIME:20230517T220000
DTSTAMP;VALUE=DATE-TIME:20260421T133920Z
UID:b0e7af3b6b2e4f1b9b8c06de4ced9ed0@150.164.76.86:8080
CREATED;VALUE=DATE-TIME:20230503T150437Z
DESCRIPTION:<div>P<span>recisamos do apoio de vocês para o fornecimento d
 e todos os materiais necessários para realização de Cerimônia com a Re
 itora. </span><span>Informamos ainda que no dia do evento </span><span>f
 icarão</span><span> 3 </span><span>funcionários da Unidade para auxil
 iar. <span><span><span><span><span><span><span><span><span><span>Nosso Té
 cnico da Multimídia\, Alan Felipe (Ramal 2399) estará presente para auxi
 liar os demais técnicos e informar os componentes de multimídia que temo
 s na Unidade. <span><span><span><span><span><span><span><span><span><span>
 <span>O Auditório da FAO estará disponível para montagem a partir das 1
 6h do dia 17/05.</span></span></span></span></span></span></span></span></
 span></span></span><br /></span></span></span></span></span></span></span>
 </span></span></span><span><span><span><span><span><span><span><span><span
 ><span><span>Já ajustamos com o Geraldo do Serviços Gerias da FAO o tran
 sporte dos itens no dia 16/05 (terça-feira) na parte da manhã. (Ramal do
  setor: 2460).</span></span></span></span></span></span></span></span></sp
 an></span></span><br /></span></div>\n<div><span><br /><br /></span></div>
LAST-MODIFIED;VALUE=DATE-TIME:20230503T150608Z
URL:http://150.164.76.86:8080/cac/agenda/14560383412527890841
END:VEVENT
BEGIN:VTIMEZONE
TZID:America/Sao_Paulo
X-LIC-LOCATION:America/Sao_Paulo
BEGIN:STANDARD
DTSTART;VALUE=DATE-TIME:20230225T230000
TZNAME:BRT
TZOFFSETFROM:-0200
TZOFFSETTO:-0300
END:STANDARD
END:VTIMEZONE
END:VCALENDAR
