BEGIN:VCALENDAR
VERSION:2.0
PRODID:-//Plone.org//NONSGML plone.app.event//EN
X-WR-TIMEZONE:America/Sao_Paulo
BEGIN:VEVENT
SUMMARY:Usinas Fotovoltaicas - Desligamento CADs 1 - em [ Auditorio Nobre 
 do CAD 1 Auditorio 1A do CAD 1 Auditorio 2A do CAD 1 Auditório B302 do CA
 D 3 Auditório B101/102 do CAD 3 Auditório B301 do CAD 3]
DTSTART;TZID=America/Sao_Paulo;VALUE=DATE-TIME:20220619T080000
DTEND;TZID=America/Sao_Paulo;VALUE=DATE-TIME:20220619T180000
DTSTAMP;VALUE=DATE-TIME:20260422T064747Z
UID:a744d76382d7455283b1801be70ab61e@150.164.76.86:8080
CREATED;VALUE=DATE-TIME:20220524T115141Z
DESCRIPTION:<h1 class="documentFirstHeading" id="parent-fieldname-title">P
 ré-reserva Usinas Fotovoltaicas - Desligamento CADs 1 - 12\,16 e 19 de Ju
 nho </h1>
LAST-MODIFIED;VALUE=DATE-TIME:20230111T201111Z
URL:http://150.164.76.86:8080/cac/agenda/14556715997457091685
END:VEVENT
BEGIN:VTIMEZONE
TZID:America/Sao_Paulo
X-LIC-LOCATION:America/Sao_Paulo
BEGIN:STANDARD
DTSTART;VALUE=DATE-TIME:20220219T230000
TZNAME:BRT
TZOFFSETFROM:-0200
TZOFFSETTO:-0300
END:STANDARD
END:VTIMEZONE
END:VCALENDAR
