BEGIN:VCALENDAR
VERSION:2.0
PRODID:-//Plone.org//NONSGML plone.app.event//EN
X-WR-TIMEZONE:America/Sao_Paulo
BEGIN:VEVENT
SUMMARY:Missão do Instituto Confúcio em [ Outros espacos]
DTSTART;TZID=America/Sao_Paulo;VALUE=DATE-TIME:20231124T140000
DTEND;TZID=America/Sao_Paulo;VALUE=DATE-TIME:20231124T180000
DTSTAMP;VALUE=DATE-TIME:20260420T155716Z
UID:53dcf47162764bf5971d817bc9dac931@150.164.76.86:8080
CREATED;VALUE=DATE-TIME:20231117T184218Z
DESCRIPTION:<p><span>apoio audiovisual da CAC no dia 24/11\, 14 horas\, na
  sala das Sessões\, para visita da Missão do Instituto Confúcio</span><
 /p>
LAST-MODIFIED;VALUE=DATE-TIME:20231117T184229Z
URL:http://150.164.76.86:8080/cac/agenda/14540865039027597161
END:VEVENT
BEGIN:VTIMEZONE
TZID:America/Sao_Paulo
X-LIC-LOCATION:America/Sao_Paulo
BEGIN:DAYLIGHT
DTSTART;VALUE=DATE-TIME:20231015T010000
TZNAME:BRST
TZOFFSETFROM:-0300
TZOFFSETTO:-0200
END:DAYLIGHT
END:VTIMEZONE
END:VCALENDAR
