BEGIN:VCALENDAR
VERSION:2.0
PRODID:-//Plone.org//NONSGML plone.app.event//EN
X-WR-TIMEZONE:America/Sao_Paulo
BEGIN:VEVENT
SUMMARY:Semana do hip-hop: Conexão universidade e periferia em [ Arena da
  praça de serviços]
DTSTART;TZID=America/Sao_Paulo;VALUE=DATE-TIME:20241001T173000
DTEND;TZID=America/Sao_Paulo;VALUE=DATE-TIME:20241001T203000
DTSTAMP;VALUE=DATE-TIME:20260419T175716Z
UID:a87f3e0810ae43eb8d2ca6e101593385@150.164.76.86:8080
CREATED;VALUE=DATE-TIME:20240903T231858Z
DESCRIPTION:<p>A semana do hip-hop\, se caracteriza enquanto um projeto ap
 oiado pelo edital PRAE de apoio a projetos. No qual no dia 01/10/2024 a pa
 rtir das 17:30 irá ocorrer a programação do dia break\, que contará co
 m uma aula teorioca e prática\, realizada por dois representantes do movi
 mento de Belo-Horizonte. Onde será necesario enquanto equipamento para su
 a realização\, caixa de som e microfone que caso a instituição não te
 nha como ofertar\, será adiquirido de maneira autonoma\, fora os equipame
 netos de som só será necessário a presença dos profisionais de rotina 
 da praça de serviços\, segurança e pessoas do setor de limpeza.</p>
LAST-MODIFIED;VALUE=DATE-TIME:20240904T164708Z
URL:http://150.164.76.86:8080/cac/agenda/14534584405212036800
END:VEVENT
BEGIN:VTIMEZONE
TZID:America/Sao_Paulo
X-LIC-LOCATION:America/Sao_Paulo
BEGIN:STANDARD
DTSTART;VALUE=DATE-TIME:20240217T230000
TZNAME:BRT
TZOFFSETFROM:-0200
TZOFFSETTO:-0300
END:STANDARD
END:VTIMEZONE
END:VCALENDAR
