BEGIN:VCALENDAR
VERSION:2.0
PRODID:-//Plone.org//NONSGML plone.app.event//EN
X-WR-TIMEZONE:America/Sao_Paulo
BEGIN:VEVENT
SUMMARY:Exposição Elas por Elas - Belas Artes em [ Auditorio da Reitoria
 ]
DTSTART;TZID=America/Sao_Paulo;VALUE=DATE-TIME:20240403T070000
DTEND;TZID=America/Sao_Paulo;VALUE=DATE-TIME:20240405T200000
DTSTAMP;VALUE=DATE-TIME:20260420T031246Z
UID:db1dacc01af042a6a37f7eebc3982940@150.164.76.86:8080
CREATED;VALUE=DATE-TIME:20240111T144145Z
DESCRIPTION:<p>Seminário da Exposição Elas por Elas Microfone\, caixa s
 om e projetor</p>
LAST-MODIFIED;VALUE=DATE-TIME:20240208T184205Z
URL:http://150.164.76.86:8080/cac/agenda/14525769029742302593
END:VEVENT
BEGIN:VTIMEZONE
TZID:America/Sao_Paulo
X-LIC-LOCATION:America/Sao_Paulo
BEGIN:STANDARD
DTSTART;VALUE=DATE-TIME:20240217T230000
TZNAME:BRT
TZOFFSETFROM:-0200
TZOFFSETTO:-0300
END:STANDARD
END:VTIMEZONE
END:VCALENDAR
