BEGIN:VCALENDAR
VERSION:2.0
PRODID:-//Plone.org//NONSGML plone.app.event//EN
X-WR-TIMEZONE:America/Sao_Paulo
BEGIN:VEVENT
SUMMARY:Aula Especial da Formação Transversal - Direitos Humanos e Democ
 racia\, a ser proferida pelo Prof. Adolfo Pérez Esquivel\, atualmente vin
 culado à Universidade de Buenos Aires e Prêmio Nobel da Paz em 1980 em [
  Outros espacos]
DTSTART;TZID=America/Sao_Paulo;VALUE=DATE-TIME:20221107T140000
DTEND;TZID=America/Sao_Paulo;VALUE=DATE-TIME:20221107T170000
DTSTAMP;VALUE=DATE-TIME:20260421T221837Z
UID:284edbf6b65342748d6f04195e226ed9@150.164.76.86:8080
CREATED;VALUE=DATE-TIME:20221025T122431Z
DESCRIPTION:Evento aula/conferência online\, no dia 07 de novembro de 202
 2\, às 14:00hs.\n\n\n Após a fala do conferencista\, haverá um momento 
 para uma breve apresentação de três projetos desenvolvidos por professo
 res da UFMG relacionados diretamente à temática dos direitos humanos\, e
  a estas apresentações se seguirá um debate. \n\nO evento contará tamb
 ém com a participação do Pró-Reitor de Graduação\, Professor Bruno O
 távio Soares Teixeira.\n\nRecursos necessários:\n \ntransmissão do even
 to no youtube  e  disponibilização de um profissional para fazer a tradu
 ção simultânea (para o português e para LIBRAS) da fala do Prof. Esqui
 vel (a conferência será em espanhol).
LAST-MODIFIED;VALUE=DATE-TIME:20221101T191337Z
URL:http://150.164.76.86:8080/cac/agenda/14519303007069680947
END:VEVENT
BEGIN:VTIMEZONE
TZID:America/Sao_Paulo
X-LIC-LOCATION:America/Sao_Paulo
BEGIN:DAYLIGHT
DTSTART;VALUE=DATE-TIME:20221016T010000
TZNAME:BRST
TZOFFSETFROM:-0300
TZOFFSETTO:-0200
END:DAYLIGHT
END:VTIMEZONE
END:VCALENDAR
