BEGIN:VCALENDAR
VERSION:2.0
PRODID:-//Plone.org//NONSGML plone.app.event//EN
X-WR-TIMEZONE:America/Sao_Paulo
BEGIN:VEVENT
SUMMARY:Programa de Educação para Aposentadoria em []
DTSTART;TZID=America/Sao_Paulo;VALUE=DATE-TIME:20200430T080000
DTEND;TZID=America/Sao_Paulo;VALUE=DATE-TIME:20200430T120000
DTSTAMP;VALUE=DATE-TIME:20260425T000529Z
UID:4b4755e5f99748888f39522e968bdbe8@150.164.76.86:8080
CREATED;VALUE=DATE-TIME:20200128T134255Z
DESCRIPTION:<p>Será ministrada a primeira palestra do Programa de Educaç
 ão para Aposentadoria (tema a definir). Serão necessários datashow\, au
 dio\, 1 microfone. Será realizado intervalo com lanche. Se possível\, pr
 ecisaremos de mesas para disponibilizar o lanche.</p>
LAST-MODIFIED;VALUE=DATE-TIME:20230111T201110Z
URL:http://150.164.76.86:8080/cac/agenda/14518296908681767657
END:VEVENT
BEGIN:VTIMEZONE
TZID:America/Sao_Paulo
X-LIC-LOCATION:America/Sao_Paulo
BEGIN:STANDARD
DTSTART;VALUE=DATE-TIME:20200215T230000
TZNAME:BRT
TZOFFSETFROM:-0200
TZOFFSETTO:-0300
END:STANDARD
END:VTIMEZONE
END:VCALENDAR
