BEGIN:VCALENDAR
VERSION:2.0
PRODID:-//Plone.org//NONSGML plone.app.event//EN
X-WR-TIMEZONE:America/Sao_Paulo
BEGIN:VEVENT
SUMMARY:Live: InovaLab-UFMG - Ciclo 2 em [ Outros espacos]
DTSTART;TZID=America/Sao_Paulo;VALUE=DATE-TIME:20250128T103000
DTEND;TZID=America/Sao_Paulo;VALUE=DATE-TIME:20250128T123000
DTSTAMP;VALUE=DATE-TIME:20260419T145320Z
UID:9ff1b522319d4d95bdb863af87932432@150.164.76.86:8080
CREATED;VALUE=DATE-TIME:20250123T193903Z
DESCRIPTION:Live Tira-Dúvidas do Edital InovaLab-UFMG Ciclo 2. Necessári
 o suporte audiovisual para transmissão da Live via YouTube/CAC-UFMG \, co
 m 3 a 4 telas do Zoom/CTIT-Inova simultâneas já logadas.\nTítulo\, desc
 rição e imagem da divulgação em fase de finalização e serão enviada
 s em oportunamente.
LAST-MODIFIED;VALUE=DATE-TIME:20250124T151218Z
URL:http://150.164.76.86:8080/cac/agenda/14503351996003927684
END:VEVENT
BEGIN:VTIMEZONE
TZID:America/Sao_Paulo
X-LIC-LOCATION:America/Sao_Paulo
BEGIN:DAYLIGHT
DTSTART;VALUE=DATE-TIME:20241020T010000
TZNAME:BRST
TZOFFSETFROM:-0300
TZOFFSETTO:-0200
END:DAYLIGHT
END:VTIMEZONE
END:VCALENDAR
