BEGIN:VCALENDAR
VERSION:2.0
PRODID:-//Plone.org//NONSGML plone.app.event//EN
X-WR-TIMEZONE:America/Sao_Paulo
BEGIN:VEVENT
SUMMARY:Olímpiada de Química em [ Auditorio Nobre do CAD 1 - sem copa\, 
 saguão parcial]
DTSTART;TZID=America/Sao_Paulo;VALUE=DATE-TIME:20250510T070000
DTEND;TZID=America/Sao_Paulo;VALUE=DATE-TIME:20250512T220000
DTSTAMP;VALUE=DATE-TIME:20260419T091355Z
UID:896795e37deb4017bc45a29192eb8253@150.164.76.86:8080
CREATED;VALUE=DATE-TIME:20250310T151415Z
DESCRIPTION:<p>Reserva a pedido da Reitora\, do Prof. Aziz e da Profa. Fá
 bia</p>
LAST-MODIFIED;VALUE=DATE-TIME:20250425T134158Z
URL:http://150.164.76.86:8080/cac/agenda/14499300440263905611
END:VEVENT
BEGIN:VTIMEZONE
TZID:America/Sao_Paulo
X-LIC-LOCATION:America/Sao_Paulo
BEGIN:STANDARD
DTSTART;VALUE=DATE-TIME:20250215T230000
TZNAME:BRT
TZOFFSETFROM:-0200
TZOFFSETTO:-0300
END:STANDARD
END:VTIMEZONE
END:VCALENDAR
