BEGIN:VCALENDAR
VERSION:2.0
PRODID:-//Plone.org//NONSGML plone.app.event//EN
X-WR-TIMEZONE:America/Sao_Paulo
BEGIN:VEVENT
SUMMARY:Colação de Grau Oficial FAFICH em [ Auditorio A102 do Cad 2]
DTSTART;TZID=America/Sao_Paulo;VALUE=DATE-TIME:20240717T170000
DTEND;TZID=America/Sao_Paulo;VALUE=DATE-TIME:20240717T180000
DTSTAMP;VALUE=DATE-TIME:20260419T234932Z
UID:f39ca5729e764244a4fde5cc45a4f6c6@150.164.76.86:8080
CREATED;VALUE=DATE-TIME:20240223T115855Z
DESCRIPTION:Colação de grau oficial FAFICH
LAST-MODIFIED;VALUE=DATE-TIME:20240612T182926Z
URL:http://150.164.76.86:8080/cac/agenda/14490733847331138873
END:VEVENT
BEGIN:VTIMEZONE
TZID:America/Sao_Paulo
X-LIC-LOCATION:America/Sao_Paulo
BEGIN:STANDARD
DTSTART;VALUE=DATE-TIME:20240217T230000
TZNAME:BRT
TZOFFSETFROM:-0200
TZOFFSETTO:-0300
END:STANDARD
END:VTIMEZONE
END:VCALENDAR
