BEGIN:VCALENDAR
VERSION:2.0
PRODID:-//Plone.org//NONSGML plone.app.event//EN
X-WR-TIMEZONE:America/Sao_Paulo
BEGIN:VEVENT
SUMMARY:II Ciclo de Debates Comfic/Collicen em [ Outros espacos]
DTSTART;TZID=America/Sao_Paulo;VALUE=DATE-TIME:20240726T093000
DTEND;TZID=America/Sao_Paulo;VALUE=DATE-TIME:20240726T120000
DTSTAMP;VALUE=DATE-TIME:20260420T011909Z
UID:95aeb9484ce5444cb8b40c3a31603aee@150.164.76.86:8080
CREATED;VALUE=DATE-TIME:20240705T162643Z
DESCRIPTION:Apoio áudio visual\, microfone de mesa\, microfone avulso par
 a público\, transmissão via YouTube.
LAST-MODIFIED;VALUE=DATE-TIME:20240705T171218Z
URL:http://150.164.76.86:8080/cac/agenda/14489098397211710599
END:VEVENT
BEGIN:VTIMEZONE
TZID:America/Sao_Paulo
X-LIC-LOCATION:America/Sao_Paulo
BEGIN:STANDARD
DTSTART;VALUE=DATE-TIME:20240217T230000
TZNAME:BRT
TZOFFSETFROM:-0200
TZOFFSETTO:-0300
END:STANDARD
END:VTIMEZONE
END:VCALENDAR
