BEGIN:VCALENDAR
VERSION:2.0
PRODID:-//Plone.org//NONSGML plone.app.event//EN
X-WR-TIMEZONE:America/Sao_Paulo
BEGIN:VEVENT
SUMMARY:Feira da UFMG - Agroecologia e Economia Popular Solidária em [ En
 torno da Praca de Servicos]
DTSTART;TZID=America/Sao_Paulo;VALUE=DATE-TIME:20240508T070000
DTEND;TZID=America/Sao_Paulo;VALUE=DATE-TIME:20240508T180000
DTSTAMP;VALUE=DATE-TIME:20260420T031303Z
UID:bc64b122dbfa4742a5fef2b0e3d365b7@150.164.76.86:8080
CREATED;VALUE=DATE-TIME:20240305T132013Z
DESCRIPTION:Não serão utilizados equipamentos ou serviços além da estr
 utura tradicional da Feira.
LAST-MODIFIED;VALUE=DATE-TIME:20240306T133733Z
URL:http://150.164.76.86:8080/cac/agenda/14484933187441669436
END:VEVENT
BEGIN:VTIMEZONE
TZID:America/Sao_Paulo
X-LIC-LOCATION:America/Sao_Paulo
BEGIN:STANDARD
DTSTART;VALUE=DATE-TIME:20240217T230000
TZNAME:BRT
TZOFFSETFROM:-0200
TZOFFSETTO:-0300
END:STANDARD
END:VTIMEZONE
END:VCALENDAR
