BEGIN:VCALENDAR
VERSION:2.0
PRODID:-//Plone.org//NONSGML plone.app.event//EN
X-WR-TIMEZONE:America/Sao_Paulo
BEGIN:VEVENT
SUMMARY:Pré-reserva Entrega de título honoris causa em [ Auditorio da Re
 itoria]
DTSTART;TZID=America/Sao_Paulo;VALUE=DATE-TIME:20221116T080000
DTEND;TZID=America/Sao_Paulo;VALUE=DATE-TIME:20221116T210000
DTSTAMP;VALUE=DATE-TIME:20260421T221015Z
UID:099439d3edc04219b7ac9bc66008a6f7@150.164.76.86:8080
CREATED;VALUE=DATE-TIME:20220912T183601Z
DESCRIPTION:<p><span>Sessão Solene para a outorga do título de Doutor 
 </span><i>Honoris Causa</i><span> a Adolfo Pérez Esquivel e Daisaku Iked
 a.</span></p>
LAST-MODIFIED;VALUE=DATE-TIME:20221111T160246Z
URL:http://150.164.76.86:8080/cac/agenda/14474106339740587638
END:VEVENT
BEGIN:VTIMEZONE
TZID:America/Sao_Paulo
X-LIC-LOCATION:America/Sao_Paulo
BEGIN:DAYLIGHT
DTSTART;VALUE=DATE-TIME:20221016T010000
TZNAME:BRST
TZOFFSETFROM:-0300
TZOFFSETTO:-0200
END:DAYLIGHT
END:VTIMEZONE
END:VCALENDAR
