BEGIN:VCALENDAR
VERSION:2.0
PRODID:-//Plone.org//NONSGML plone.app.event//EN
X-WR-TIMEZONE:America/Sao_Paulo
BEGIN:VEVENT
SUMMARY:Atividade de Incentivo ao Alistamento Eleitoral de Jovens em [ Aud
 itorio Nobre do CAD 1]
DTSTART;TZID=America/Sao_Paulo;VALUE=DATE-TIME:20220429T090000
DTEND;TZID=America/Sao_Paulo;VALUE=DATE-TIME:20220429T120000
DTSTAMP;VALUE=DATE-TIME:20260422T093549Z
UID:1b360ac54b9544e7884cc898067c0279@150.164.76.86:8080
CREATED;VALUE=DATE-TIME:20220427T124030Z
DESCRIPTION:A atividade a ser realizada é uma palestra sobre a importânc
 ia do alistamento eleitoral de jovens e o combate a notícias falsas. Apó
 s a fala do convidado será realizado debate e demonstração do uso da ur
 na eletrônica\nSerão necessários: de datashow\, notebook (providenciado
  pela unidade)\, internet\, microfone e 3 mesas (para demonstração do us
 o da urna eletrônica)
LAST-MODIFIED;VALUE=DATE-TIME:20220427T145913Z
URL:http://150.164.76.86:8080/cac/agenda/14455652660868963505
END:VEVENT
BEGIN:VTIMEZONE
TZID:America/Sao_Paulo
X-LIC-LOCATION:America/Sao_Paulo
BEGIN:STANDARD
DTSTART;VALUE=DATE-TIME:20220219T230000
TZNAME:BRT
TZOFFSETFROM:-0200
TZOFFSETTO:-0300
END:STANDARD
END:VTIMEZONE
END:VCALENDAR
